BEGIN:VCALENDAR
VERSION:2.0
PRODID:icalendar-ruby
CALSCALE:GREGORIAN
METHOD:PUBLISH
BEGIN:VEVENT
DTSTAMP:20260423T143823Z
UID:158-539996@northpoint.tithelysetup5.com
DTSTART:20260502T010000Z
DTEND:20260502T033000Z
CLASS:PUBLIC
CREATED:20260422T175559
DESCRIPTION:Join us on Friday\, May 1st @ 7pm for an evening of fun &amp\; 
 connection! \nNeed more details and want to stay in the loop?  Contact 
 Pastor Jenny - jenny@npcalgary.ca
LAST-MODIFIED:20260422T175559
LOCATION:
SUMMARY:NP Young Adults
URL;VALUE=URI:https://www.npcalgary.ca/events/np-young-adults--158/2026-05-
 01
END:VEVENT
END:VCALENDAR
