BEGIN:VCALENDAR
VERSION:2.0
PRODID:icalendar-ruby
CALSCALE:GREGORIAN
METHOD:PUBLISH
BEGIN:VEVENT
DTSTAMP:20260423T160138Z
UID:157-539995@northpoint.tithelysetup5.com
DTSTART:20260502T010000Z
DTEND:20260502T033000Z
CLASS:PUBLIC
CREATED:20260422T175359
DESCRIPTION:Who? Grade 5-12\nWhere? HHAC Youth Room\nWhen? May 1st 7-9:30pm
 \nWhat? Devos &amp\; Prayer\n\nGot questions? Email Pastor Garry
LAST-MODIFIED:20260422T175359
LOCATION:HHAC Youth Room
SUMMARY:NP Youth
URL;VALUE=URI:https://www.npcalgary.ca/events/np-youth--157/2026-05-01
ATTACH;FILENAME=NP Youth Devos & Prayer.png;FMTTYPE=image/png:https://dq5pw
 pg1q8ru0.cloudfront.net/2026/04/21/17/06/55/04f00459-a012-496c-83f1-71a46c
 b69b6d/NP%20Youth%20Devos%20&%20Prayer.png
END:VEVENT
END:VCALENDAR
